BEGIN:VCALENDAR
VERSION:2.0
BEGIN:VEVENT
DTSTART;TZID=Europe/Stockholm:20261213T110000
DTEND;TZID=Europe/Stockholm:20261213T120000
DTSTAMP:20260421T091033
DESCRIPTION:Ulf Eriksson
SEQUENCE:0
SUMMARY:Gudstjänst i Klippan
UID:8682@lawebb.se
END:VEVENT
END:VCALENDAR