BEGIN:VCALENDAR
VERSION:2.0
BEGIN:VEVENT
DTSTART;TZID=Europe/Stockholm:20261126T183000
DTEND;TZID=Europe/Stockholm:20261126T193000
DTSTAMP:20260421T070514
DESCRIPTION:Kl 19.00-20.30, varannan torsdag, träffas vi och läser intressant text, samtal och ber.
Börjar kl 18.30 med att fika tillsammans.
SEQUENCE:0
SUMMARY:Livsnära samtal i Klippan
UID:8495@lawebb.se
END:VEVENT
END:VCALENDAR