BEGIN:VCALENDAR
VERSION:2.0
BEGIN:VEVENT
DTSTART;TZID=Europe/Stockholm:20261119T183000
DTEND;TZID=Europe/Stockholm:20261119T193000
DTSTAMP:20260421T070346
DESCRIPTION:kl 19.00-20.30 samtalas om bibeltext tillsammans med Jenny Persson. Börjar med fika från 18.30.
SEQUENCE:0
SUMMARY:Bibelsamtal i Klippan
UID:2229@lawebb.se
END:VEVENT
END:VCALENDAR