BEGIN:VCALENDAR
VERSION:2.0
BEGIN:VEVENT
DTSTART;TZID=Europe/Stockholm:20261108T110000
DTEND;TZID=Europe/Stockholm:20261108T120000
DTSTAMP:20260421T070202
DESCRIPTION:Ulf Eriksson talar och sjunger och ger scouter, föräldrar, ledare och övriga en god stund.
SEQUENCE:0
SUMMARY:Gudstjänst med scouterna
UID:5749@lawebb.se
END:VEVENT
END:VCALENDAR