BEGIN:VCALENDAR
VERSION:2.0
BEGIN:VEVENT
DTSTART;TZID=Europe/Stockholm:20261101T110000
DTEND;TZID=Europe/Stockholm:20261101T120000
DTSTAMP:20260421T070509
DESCRIPTION:I Klippan gudstjänst då vi minns de som lämnat jordelivet nyligen eller för länge sedan men är saknade.
SEQUENCE:0
SUMMARY:Gudstjänst på Alla själars dag
UID:7353@lawebb.se
END:VEVENT
END:VCALENDAR