BEGIN:VCALENDAR
VERSION:2.0
BEGIN:VEVENT
DTSTART;TZID=Europe/Stockholm:20261028T180000
DTEND;TZID=Europe/Stockholm:20261028T190000
DTSTAMP:20260421T051607
DESCRIPTION:
SEQUENCE:0
SUMMARY:Salig Blandning hos Eqk Väse
UID:7858@lawebb.se
END:VEVENT
END:VCALENDAR