BEGIN:VCALENDAR
VERSION:2.0
BEGIN:VEVENT
DTSTART;TZID=Europe/Stockholm:20261021T180000
DTEND;TZID=Europe/Stockholm:20261021T190000
DTSTAMP:20260421T051429
DESCRIPTION:
SEQUENCE:0
SUMMARY:Salig Blandning hos Eqk Väse
UID:2235@lawebb.se
END:VEVENT
END:VCALENDAR