BEGIN:VCALENDAR
VERSION:2.0
BEGIN:VEVENT
DTSTART;TZID=Europe/Stockholm:20261014T180000
DTEND;TZID=Europe/Stockholm:20261014T190000
DTSTAMP:20260421T051607
DESCRIPTION:
SEQUENCE:0
SUMMARY:Salig Blandning hos Eqk Väse
UID:2228@lawebb.se
END:VEVENT
END:VCALENDAR