BEGIN:VCALENDAR
VERSION:2.0
BEGIN:VEVENT
DTSTART;TZID=Europe/Stockholm:20261011T110000
DTEND;TZID=Europe/Stockholm:20261011T120000
DTSTAMP:20260421T051317
DESCRIPTION:Det blir tillsammans med någon av Kristinehamns församlings präster.
SEQUENCE:0
SUMMARY:Ekumenisk gudstjänst i Klippan
UID:4836@lawebb.se
END:VEVENT
END:VCALENDAR