BEGIN:VCALENDAR
VERSION:2.0
BEGIN:VEVENT
DTSTART;TZID=Europe/Stockholm:20261007T180000
DTEND;TZID=Europe/Stockholm:20261007T190000
DTSTAMP:20260421T051532
DESCRIPTION:18.00 äter vi tillsammans
18.30 träffas vi i de grupper som vi anmält oss till.
19.45  avslutning i kyrksalen.
SEQUENCE:0
SUMMARY:Salig Blandning hos Eqk Väse
UID:4597@lawebb.se
END:VEVENT
END:VCALENDAR