BEGIN:VCALENDAR
VERSION:2.0
BEGIN:VEVENT
DTSTART;TZID=Europe/Stockholm:20261001T183000
DTEND;TZID=Europe/Stockholm:20261001T193000
DTSTAMP:20260421T051422
DESCRIPTION:Kl 19.00-20.30, varannan torsdag, träffas vi och läser intressant text, samtal och ber.
Börjar kl 18.30 med att fika tillsammans.
SEQUENCE:0
SUMMARY:Livsnära samtal i Klippan
UID:7245@lawebb.se
END:VEVENT
END:VCALENDAR