BEGIN:VCALENDAR
VERSION:2.0
BEGIN:VEVENT
DTSTART;TZID=Europe/Stockholm:20260920T110000
DTEND;TZID=Europe/Stockholm:20260920T120000
DTSTAMP:20260421T032246
DESCRIPTION:Det blir Ulf Eriksson som vi får lyssna till denna söndag.
SEQUENCE:0
SUMMARY:Gudstjänst i Klippan - start av höstterminen
UID:9638@lawebb.se
END:VEVENT
END:VCALENDAR