BEGIN:VCALENDAR
VERSION:2.0
BEGIN:VEVENT
DTSTART;TZID=Europe/Stockholm:20260911T180000
DTEND;TZID=Europe/Stockholm:20260911T190000
DTSTAMP:20260421T032328
DESCRIPTION:Anmälan till Nancy, 070-748 11 68.
SEQUENCE:0
SUMMARY:Surströmmingsfest på Ölmeklint
UID:8669@lawebb.se
END:VEVENT
END:VCALENDAR