BEGIN:VCALENDAR
VERSION:2.0
BEGIN:VEVENT
DTSTART;TZID=Europe/Stockholm:20260906T140000
DTEND;TZID=Europe/Stockholm:20260906T150000
DTSTAMP:20260421T032247
DESCRIPTION:Gudstjänst med Jenny Persson.
Ta med egen fikakorg och kanske stol.
SEQUENCE:0
SUMMARY:Missionshuset Marieberg vid Björndalen
UID:7393@lawebb.se
END:VEVENT
END:VCALENDAR