BEGIN:VCALENDAR
VERSION:2.0
BEGIN:VEVENT
DTSTART;TZID=Europe/Stockholm:20260829T180000
DTEND;TZID=Europe/Stockholm:20260829T190000
DTSTAMP:20260421T013414
DESCRIPTION:
SEQUENCE:0
SUMMARY:Församlingens sommarfest
UID:3378@lawebb.se
END:VEVENT
END:VCALENDAR