BEGIN:VCALENDAR
VERSION:2.0
BEGIN:VEVENT
DTSTART;TZID=Europe/Stockholm:20260827T183000
DTEND;TZID=Europe/Stockholm:20260827T193000
DTSTAMP:20260421T013414
DESCRIPTION:kl 19.00-20.30 samtalas om bibeltext tillsammans med Jenny Persson. Börjar med fika från 18.30.
SEQUENCE:0
SUMMARY:Bibelsamtal i Klippan
UID:8728@lawebb.se
END:VEVENT
END:VCALENDAR