BEGIN:VCALENDAR
VERSION:2.0
BEGIN:VEVENT
DTSTART;TZID=Europe/Stockholm:20260823T140000
DTEND;TZID=Europe/Stockholm:20260823T150000
DTSTAMP:20260421T013602
DESCRIPTION:Kl. 14.00  Hur växer vi tillsammans?
Servering.
Vi får lyssna till Rune W Dahlén
SEQUENCE:0
SUMMARY:Temahelg om att VÄXA I TRO - Rune W Dahlén
UID:9559@lawebb.se
END:VEVENT
END:VCALENDAR