BEGIN:VCALENDAR
VERSION:2.0
BEGIN:VEVENT
DTSTART;TZID=Europe/Stockholm:20260822T190000
DTEND;TZID=Europe/Stockholm:20260822T200000
DTSTAMP:20260421T013031
DESCRIPTION:KL 17.00  Får hjälp med att sätt ord på tron.  Vi får lyssna till Rune W Dahlén. Därefter servering och tid för samtal.
Kl. 19.00  Hur påverkas vi av vår tro? och sedan servering och prat.
SEQUENCE:0
SUMMARY:Temahelg om att VÄXA I TRO - Ölmeklint
UID:4542@lawebb.se
END:VEVENT
END:VCALENDAR