BEGIN:VCALENDAR
VERSION:2.0
BEGIN:VEVENT
DTSTART;TZID=Europe/Stockholm:20260815T190000
DTEND;TZID=Europe/Stockholm:20260815T200000
DTSTAMP:20260421T013158
DESCRIPTION:Denna kväll får vi lyssna till Agne Furingsten.
SEQUENCE:0
SUMMARY:Lördagskväll på Ölmeklint
UID:8535@lawebb.se
END:VEVENT
END:VCALENDAR