BEGIN:VCALENDAR
VERSION:2.0
BEGIN:VEVENT
DTSTART;TZID=Europe/Stockholm:20260811T140000
DTEND;TZID=Europe/Stockholm:20260811T150000
DTSTAMP:20260421T013537
DESCRIPTION:Café Klippan har flyttat till grannens trädgård.
SEQUENCE:0
SUMMARY:Trädgårdsfika på Vänersviksvägen 9
UID:9558@lawebb.se
END:VEVENT
END:VCALENDAR