BEGIN:VCALENDAR
VERSION:2.0
BEGIN:VEVENT
DTSTART;TZID=Europe/Stockholm:20260809T190000
DTEND;TZID=Europe/Stockholm:20260809T200000
DTSTAMP:20260421T013750
DESCRIPTION:William Björling, dragspel och sång
SEQUENCE:0
SUMMARY:Sommarkväll i Ölmhult (nordöstra Väse)
UID:5535@lawebb.se
END:VEVENT
END:VCALENDAR