BEGIN:VCALENDAR
VERSION:2.0
BEGIN:VEVENT
DTSTART;TZID=Europe/Stockholm:20260801T000000
DTEND;TZID=Europe/Stockholm:20260801T240000
DTSTAMP:20260421T013430
DESCRIPTION:Onsdag - söndag är det tältmöten med ?? På lördagskväll kan vi åka tillsammans, om du hör av dig till Nancy, 070-748 11 68.
SEQUENCE:0
SUMMARY:Livsviktigt på Hults sommarhem
UID:7794@lawebb.se
END:VEVENT
END:VCALENDAR