BEGIN:VCALENDAR
VERSION:2.0
BEGIN:VEVENT
DTSTART;TZID=Europe/Stockholm:20260728T140000
DTEND;TZID=Europe/Stockholm:20260728T150000
DTSTAMP:20260420T234505
DESCRIPTION:Café Klippan har flyttat till grannens trädgård.
SEQUENCE:0
SUMMARY:Trädgårdsfika på Vänersviksvägen 9
UID:8265@lawebb.se
END:VEVENT
END:VCALENDAR