BEGIN:VCALENDAR
VERSION:2.0
BEGIN:VEVENT
DTSTART;TZID=Europe/Stockholm:20260725T190000
DTEND;TZID=Europe/Stockholm:20260725T200000
DTSTAMP:20260420T234619
DESCRIPTION:Grillkväll och sång från utescenen med Robin Lundkvist och andra ungdomar från Broängskyrkan.
SEQUENCE:0
SUMMARY:Lördagskväll på Ölmeklint
UID:5485@lawebb.se
END:VEVENT
END:VCALENDAR