BEGIN:VCALENDAR
VERSION:2.0
BEGIN:VEVENT
DTSTART;TZID=Europe/Stockholm:20260719T000000
DTEND;TZID=Europe/Stockholm:20260719T240000
DTSTAMP:20260420T234730
DESCRIPTION:Till den ekumeniska gudstjänsten i missionshuset Marieberg kan man denna dag göra en pilgrimsvandring från Ölmeklint. Mer detaljer får du av bl.a. Elias Storm eller Nancy Edlund.
SEQUENCE:0
SUMMARY:Vandring från Ölmeklint till Marieberg
UID:3468@lawebb.se
END:VEVENT
END:VCALENDAR