BEGIN:VCALENDAR
VERSION:2.0
BEGIN:VEVENT
DTSTART;TZID=Europe/Stockholm:20260719T140000
DTEND;TZID=Europe/Stockholm:20260719T150000
DTSTAMP:20260420T234557
DESCRIPTION:Ekumenisk gudstjänst tillsammans med Elsie-Marie Arvidsson från Sv kyrkan Kristinehamn. Tag med fikakorg och kanske stol för fikat på kyrkbacken.
SEQUENCE:0
SUMMARY:Missionshuset Marieberg vid Björndalen
UID:4846@lawebb.se
END:VEVENT
END:VCALENDAR