BEGIN:VCALENDAR
VERSION:2.0
BEGIN:VEVENT
DTSTART;TZID=Europe/Stockholm:20260711T190000
DTEND;TZID=Europe/Stockholm:20260711T200000
DTSTAMP:20260420T234704
DESCRIPTION:Rut och Pelle Svedberg. Pelle var tidigare diakon hos Svenska kyrkan Kristinehamn.
SEQUENCE:0
SUMMARY:Lördagskväll på Ölmeklint
UID:9378@lawebb.se
END:VEVENT
END:VCALENDAR