BEGIN:VCALENDAR
VERSION:2.0
BEGIN:VEVENT
DTSTART;TZID=Europe/Stockholm:20260705T000000
DTEND;TZID=Europe/Stockholm:20260705T240000
DTSTAMP:20260420T234704
DESCRIPTION:Samåkning dit efter anmälan till Nancy 070-748 11 68.
SEQUENCE:0
SUMMARY:Besöker Boltziushemmet i Skåre
UID:5457@lawebb.se
END:VEVENT
END:VCALENDAR