BEGIN:VCALENDAR
VERSION:2.0
BEGIN:VEVENT
DTSTART;TZID=Europe/Stockholm:20260704T190000
DTEND;TZID=Europe/Stockholm:20260704T200000
DTSTAMP:20260420T234557
DESCRIPTION:Denna kväll får vi lyssna till Ingela o Tomas Hagenfors.
SEQUENCE:0
SUMMARY:Lördagskväll på Ölmeklint
UID:4687@lawebb.se
END:VEVENT
END:VCALENDAR