BEGIN:VCALENDAR
VERSION:2.0
BEGIN:VEVENT
DTSTART;TZID=Europe/Stockholm:20260630T140000
DTEND;TZID=Europe/Stockholm:20260630T150000
DTSTAMP:20260420T220305
DESCRIPTION:Café Klippan har flyttat till grannens trädgård.
SEQUENCE:0
SUMMARY:Trädgårdsfika på Vänersviksvägen 9
UID:3969@lawebb.se
END:VEVENT
END:VCALENDAR