BEGIN:VCALENDAR
VERSION:2.0
BEGIN:VEVENT
DTSTART;TZID=Europe/Stockholm:20260628T190000
DTEND;TZID=Europe/Stockholm:20260628T200000
DTSTAMP:20260420T220602
DESCRIPTION:
SEQUENCE:0
SUMMARY:Sommarkväll i Ölmhult (nordöstra Väse)
UID:9854@lawebb.se
END:VEVENT
END:VCALENDAR