BEGIN:VCALENDAR
VERSION:2.0
BEGIN:VEVENT
DTSTART;TZID=Europe/Stockholm:20260627T190000
DTEND;TZID=Europe/Stockholm:20260627T200000
DTSTAMP:20260420T220506
DESCRIPTION:Boltzius - en helande predikant - är rubriken för denna kväll med Anders Daleskog m.fl. från Skårekyrkan.
SEQUENCE:0
SUMMARY:Lördagskväll på Ölmeklint
UID:5254@lawebb.se
END:VEVENT
END:VCALENDAR