BEGIN:VCALENDAR
VERSION:2.0
BEGIN:VEVENT
DTSTART;TZID=Europe/Stockholm:20260621T140000
DTEND;TZID=Europe/Stockholm:20260621T150000
DTSTAMP:20260420T220639
DESCRIPTION:Vid entrén till naturreservatet ordnas en gudstjänst tillsammans med Ingemar Ekström som var präst i Ölme för 46 år sedan. 
Ta med fikakorg och kanske stol.
SEQUENCE:0
SUMMARY:Ekumenisk gudstjänst på Kummelön
UID:2532@lawebb.se
END:VEVENT
END:VCALENDAR