BEGIN:VCALENDAR
VERSION:2.0
BEGIN:VEVENT
DTSTART;TZID=Europe/Stockholm:20260619T160000
DTEND;TZID=Europe/Stockholm:20260619T170000
DTSTAMP:20260420T220746
DESCRIPTION:Stången reses och därefter ringlekar med Sopan (Ingela Öhman) och dragspelaren Yngve Nyberg.
Servering hela tiden och festen avslutas med att Kristinehamns Folkdanslag har en uppvisning för oss.
SEQUENCE:0
SUMMARY:Midsommnarfirande på Ölmeklint kl 16-18
UID:7943@lawebb.se
END:VEVENT
END:VCALENDAR