BEGIN:VCALENDAR
VERSION:2.0
BEGIN:VEVENT
DTSTART;TZID=Europe/Stockholm:20260618T180000
DTEND;TZID=Europe/Stockholm:20260618T190000
DTSTAMP:20260420T220747
DESCRIPTION:Midsommarfirandet förbereds med att göra kranser och klä stången m.m. m.m. Ta gärna med blommor.
SEQUENCE:0
SUMMARY:Förbereder för i morgondagens fest
UID:5238@lawebb.se
END:VEVENT
END:VCALENDAR