BEGIN:VCALENDAR
VERSION:2.0
BEGIN:VEVENT
DTSTART;TZID=Europe/Stockholm:20260614T190000
DTEND;TZID=Europe/Stockholm:20260614T200000
DTSTAMP:20260420T220638
DESCRIPTION:Björn Andersson, Tomas Ahlbäck och Elias Storm
SEQUENCE:0
SUMMARY:Sommarkväll i Ölmhult (nordöstra Väse)
UID:9585@lawebb.se
END:VEVENT
END:VCALENDAR