BEGIN:VCALENDAR
VERSION:2.0
BEGIN:VEVENT
DTSTART;TZID=Europe/Stockholm:20260613T000000
DTEND;TZID=Europe/Stockholm:20260613T240000
DTSTAMP:20260420T220740
DESCRIPTION:Ladtjärnstorp
SEQUENCE:0
SUMMARY:Scoutläger 13-17 juni.
UID:4434@lawebb.se
END:VEVENT
END:VCALENDAR