BEGIN:VCALENDAR
VERSION:2.0
BEGIN:VEVENT
DTSTART;TZID=Europe/Stockholm:20260613T190000
DTEND;TZID=Europe/Stockholm:20260613T200000
DTSTAMP:20260420T220505
DESCRIPTION:
SEQUENCE:0
SUMMARY:Lördagskväll på Ölmeklint
UID:7587@lawebb.se
END:VEVENT
END:VCALENDAR