BEGIN:VCALENDAR
VERSION:2.0
BEGIN:VEVENT
DTSTART;TZID=Europe/Stockholm:20260607T000000
DTEND;TZID=Europe/Stockholm:20260607T240000
DTSTAMP:20260420T220557
DESCRIPTION:Equmeniakyrkans kyrkokonferens pågår i Örebro från onsdagen. Vi åker tillsammans dit på söndagens gudstjänst. Mer info om detta senare.
SEQUENCE:0
SUMMARY:Resa till Örebro och Vision26
UID:4846@lawebb.se
END:VEVENT
END:VCALENDAR