BEGIN:VCALENDAR
VERSION:2.0
BEGIN:VEVENT
DTSTART;TZID=Europe/Stockholm:20260606T190000
DTEND;TZID=Europe/Stockholm:20260606T200000
DTSTAMP:20260420T220434
DESCRIPTION:kl 19.00  Vi sjunger tillsammans och vi får höra ett tal till Sverige av Elias Storm samt sjunger Nationalsången.
Därefter blir det ett musikprogram med Jenny Sunesson Larsson och Arvid Lundtoft.
SEQUENCE:0
SUMMARY:Nationaldagsfirande på Ölmeklint
UID:4384@lawebb.se
END:VEVENT
END:VCALENDAR