BEGIN:VCALENDAR
VERSION:2.0
BEGIN:VEVENT
DTSTART;TZID=Europe/Stockholm:20260531T190000
DTEND;TZID=Europe/Stockholm:20260531T200000
DTSTAMP:20260420T201941
DESCRIPTION:Tomas Kihlström från Säffle sjunger tillsammans med Joakim Götborg.
SEQUENCE:0
SUMMARY:Sommarkväll i Ölmhult (nordöstra Väse)
UID:9763@lawebb.se
END:VEVENT
END:VCALENDAR