BEGIN:VCALENDAR
VERSION:2.0
BEGIN:VEVENT
DTSTART;TZID=Europe/Stockholm:20260528T183000
DTEND;TZID=Europe/Stockholm:20260528T193000
DTSTAMP:20260420T201544
DESCRIPTION:Vi startar med fika och börjar de livsnära samtalen vid 19-tiden.
SEQUENCE:0
SUMMARY:Livsnära samtal och bön
UID:4867@lawebb.se
END:VEVENT
END:VCALENDAR