BEGIN:VCALENDAR
VERSION:2.0
BEGIN:VEVENT
DTSTART;TZID=Europe/Stockholm:20260524T140000
DTEND;TZID=Europe/Stockholm:20260524T150000
DTSTAMP:20260420T202004
DESCRIPTION:P.g.a. Rallyt som går på vägarna kring missionshuset Marieberg är den gudstjänsten tidigarelagd en vecka.
SEQUENCE:0
SUMMARY:Se 17 maj - ändrad dag
UID:9937@lawebb.se
END:VEVENT
END:VCALENDAR