BEGIN:VCALENDAR
VERSION:2.0
BEGIN:VEVENT
DTSTART;TZID=Europe/Stockholm:20260521T203000
DTEND;TZID=Europe/Stockholm:20260521T213000
DTSTAMP:20260420T201738
DESCRIPTION:
SEQUENCE:0
SUMMARY:Bön i Klippan och hemma
UID:8977@lawebb.se
END:VEVENT
END:VCALENDAR