BEGIN:VCALENDAR
VERSION:2.0
BEGIN:VEVENT
DTSTART;TZID=Europe/Stockholm:20260519T140000
DTEND;TZID=Europe/Stockholm:20260519T150000
DTSTAMP:20260420T201701
DESCRIPTION:Öppet under 2 timmar för gemenskap och gofika. Kom en stund eller var med hela tiden.
SEQUENCE:0
SUMMARY:Café Klippan kl 14-16
UID:9767@lawebb.se
END:VEVENT
END:VCALENDAR