BEGIN:VCALENDAR
VERSION:2.0
BEGIN:VEVENT
DTSTART;TZID=Europe/Stockholm:20260519T181500
DTEND;TZID=Europe/Stockholm:20260519T191500
DTSTAMP:20260420T201810
DESCRIPTION:Scouting tillsammans med engagerade ledare, 18.15-19.45.
SEQUENCE:0
SUMMARY:Scout på Ölmeklint
UID:4354@lawebb.se
END:VEVENT
END:VCALENDAR