BEGIN:VCALENDAR
VERSION:2.0
BEGIN:VEVENT
DTSTART;TZID=Europe/Stockholm:20260517T140000
DTEND;TZID=Europe/Stockholm:20260517T150000
DTSTAMP:20260420T202045
DESCRIPTION:Det blir denna dag andakt och information om missionshuset förr och nu. Som tidigare egen fikakorg och ev. stol.
SEQUENCE:0
SUMMARY:Sommarmöte i missionshuset Marieberg
UID:2853@lawebb.se
END:VEVENT
END:VCALENDAR