BEGIN:VCALENDAR
VERSION:2.0
BEGIN:VEVENT
DTSTART;TZID=Europe/Stockholm:20260517T190000
DTEND;TZID=Europe/Stockholm:20260517T200000
DTSTAMP:20260420T202020
DESCRIPTION:Sara o David Åström sjunger och berättar om livet med Jesus
SEQUENCE:0
SUMMARY:Sommarkväll i Ölmhult (nordöstra Väse)
UID:5876@lawebb.se
END:VEVENT
END:VCALENDAR