BEGIN:VCALENDAR
VERSION:2.0
BEGIN:VEVENT
DTSTART;TZID=Europe/Stockholm:20260514T080000
DTEND;TZID=Europe/Stockholm:20260514T090000
DTSTAMP:20260420T202004
DESCRIPTION:Morgonandakt med Sven Jebsen och Ingela Johansson och vi ser och hör hur långt våren har kommit.
SEQUENCE:0
SUMMARY:Ekumenisk Gökotta på naturreservatet Kummelön
UID:3552@lawebb.se
END:VEVENT
END:VCALENDAR