BEGIN:VCALENDAR
VERSION:2.0
BEGIN:VEVENT
DTSTART;TZID=Europe/Stockholm:20260510T110000
DTEND;TZID=Europe/Stockholm:20260510T120000
DTSTAMP:20260420T202046
DESCRIPTION:Joakim Götborg m.fl.
SEQUENCE:0
SUMMARY:Gudstjänst hos Eqk Väse
UID:4747@lawebb.se
END:VEVENT
END:VCALENDAR